Package: flowSpecs Version: 1.20.0 Command: F:\biocbuild\bbs-3.20-bioc\R\bin\R.exe CMD INSTALL flowSpecs StartedAt: 2025-01-30 15:44:20 -0500 (Thu, 30 Jan 2025) EndedAt: 2025-01-30 15:44:43 -0500 (Thu, 30 Jan 2025) EllapsedTime: 23.3 seconds RetCode: 0 Status: OK