Package: flowSpecs Version: 1.20.0 Command: chmod a+r flowSpecs -R && F:\biocbuild\bbs-3.20-bioc\R\bin\R.exe CMD build --keep-empty-dirs --no-resave-data flowSpecs StartedAt: 2025-01-30 18:58:59 -0500 (Thu, 30 Jan 2025) EndedAt: 2025-01-30 19:01:18 -0500 (Thu, 30 Jan 2025) EllapsedTime: 139.1 seconds RetCode: 0 Status: OK PackageFile: flowSpecs_1.20.0.tar.gz PackageFileSize: 3.263 MiB