Package: flowPeaks Version: 1.52.0 Command: /home/biocbuild/bbs-3.20-bioc/R/bin/R CMD INSTALL flowPeaks StartedAt: 2025-01-30 15:04:18 -0500 (Thu, 30 Jan 2025) EndedAt: 2025-01-30 15:04:31 -0500 (Thu, 30 Jan 2025) EllapsedTime: 13.2 seconds RetCode: 0 Status: OK