Package: flowPeaks Version: 1.52.0 Command: /Library/Frameworks/R.framework/Resources/bin/R CMD INSTALL flowPeaks StartedAt: 2025-01-30 15:02:51 -0500 (Thu, 30 Jan 2025) EndedAt: 2025-01-30 15:03:05 -0500 (Thu, 30 Jan 2025) EllapsedTime: 14.2 seconds RetCode: 0 Status: OK