Package: flowMerge Version: 2.54.0 Command: /home/biocbuild/bbs-3.20-bioc/R/bin/R CMD check --install=check:flowMerge.install-out.txt --library=/home/biocbuild/bbs-3.20-bioc/R/site-library --timings flowMerge_2.54.0.tar.gz StartedAt: 2025-01-30 22:17:01 -0500 (Thu, 30 Jan 2025) EndedAt: 2025-01-30 22:18:51 -0500 (Thu, 30 Jan 2025) EllapsedTime: 110.2 seconds RetCode: 0 Status: WARNINGS CheckDir: flowMerge.Rcheck Warnings: 1