Package: flowMeans Version: 1.66.0 Command: /home/biocbuild/R/R/bin/R CMD build --keep-empty-dirs --no-resave-data flowMeans StartedAt: 2025-01-30 23:39:36 -0000 (Thu, 30 Jan 2025) EndedAt: 2025-01-30 23:40:07 -0000 (Thu, 30 Jan 2025) EllapsedTime: 31.0 seconds RetCode: 0 Status: OK PackageFile: flowMeans_1.66.0.tar.gz PackageFileSize: 3.278 MiB