Package: flowMatch Version: 1.42.0 Command: /home/biocbuild/bbs-3.20-bioc/R/bin/R CMD check --install=check:flowMatch.install-out.txt --library=/home/biocbuild/bbs-3.20-bioc/R/site-library --timings flowMatch_1.42.0.tar.gz StartedAt: 2025-01-30 22:16:40 -0500 (Thu, 30 Jan 2025) EndedAt: 2025-01-30 22:18:37 -0500 (Thu, 30 Jan 2025) EllapsedTime: 117.2 seconds RetCode: 0 Status: OK CheckDir: flowMatch.Rcheck Warnings: 0