Package: flowMatch Version: 1.42.0 Command: /Library/Frameworks/R.framework/Resources/bin/R CMD check --install=check:flowMatch.install-out.txt --library=/Library/Frameworks/R.framework/Resources/library --no-vignettes --timings flowMatch_1.42.0.tar.gz StartedAt: 2025-01-31 04:00:36 -0500 (Fri, 31 Jan 2025) EndedAt: 2025-01-31 04:04:17 -0500 (Fri, 31 Jan 2025) EllapsedTime: 220.3 seconds RetCode: 0 Status: OK CheckDir: flowMatch.Rcheck Warnings: 0