Package: flowMatch Version: 1.42.0 Command: /Library/Frameworks/R.framework/Resources/bin/R CMD INSTALL flowMatch StartedAt: 2025-01-30 15:12:45 -0500 (Thu, 30 Jan 2025) EndedAt: 2025-01-30 15:13:11 -0500 (Thu, 30 Jan 2025) EllapsedTime: 25.6 seconds RetCode: 0 Status: OK