Package: flowMatch Version: 1.42.0 Command: rm -rf flowMatch.buildbin-libdir && mkdir flowMatch.buildbin-libdir && /Users/biocbuild/BBS/utils/build-universal.sh flowMatch_1.42.0.tar.gz /Library/Frameworks/R.framework/Resources/bin/R flowMatch.buildbin-libdir StartedAt: 2025-02-01 14:56:59 -0500 (Sat, 01 Feb 2025) EndedAt: 2025-02-01 14:57:28 -0500 (Sat, 01 Feb 2025) EllapsedTime: 29.3 seconds RetCode: 0 Status: OK PackageFile: flowMatch_1.42.0.tgz PackageFileSize: 3.956 MiB