Package: flowDensity Version: 1.40.0 Command: chmod a+r flowDensity -R && F:\biocbuild\bbs-3.20-bioc\R\bin\R.exe CMD build --keep-empty-dirs --no-resave-data flowDensity StartedAt: 2025-01-30 18:56:05 -0500 (Thu, 30 Jan 2025) EndedAt: 2025-01-30 18:56:08 -0500 (Thu, 30 Jan 2025) EllapsedTime: 3.0 seconds RetCode: 0 Status: OK PackageFile: flowDensity_1.40.0.tar.gz PackageFileSize: 4.295 MiB