Package: flowDensity Version: 1.40.0 Command: /home/biocbuild/bbs-3.20-bioc/R/bin/R CMD INSTALL flowDensity StartedAt: 2025-01-30 15:45:48 -0500 (Thu, 30 Jan 2025) EndedAt: 2025-01-30 15:45:59 -0500 (Thu, 30 Jan 2025) EllapsedTime: 10.6 seconds RetCode: 0 Status: OK