Package: flowDensity Version: 1.40.0 Command: /Library/Frameworks/R.framework/Resources/bin/R CMD build --keep-empty-dirs --no-resave-data flowDensity StartedAt: 2025-01-30 19:10:18 -0500 (Thu, 30 Jan 2025) EndedAt: 2025-01-30 19:10:22 -0500 (Thu, 30 Jan 2025) EllapsedTime: 3.4 seconds RetCode: 0 Status: OK PackageFile: flowDensity_1.40.0.tar.gz PackageFileSize: 4.295 MiB