Package: flowAI Version: 1.36.0 Command: /home/biocbuild/R/R/bin/R CMD build --keep-empty-dirs --no-resave-data flowAI StartedAt: 2025-01-30 23:37:16 -0000 (Thu, 30 Jan 2025) EndedAt: 2025-01-30 23:37:34 -0000 (Thu, 30 Jan 2025) EllapsedTime: 18.0 seconds RetCode: 0 Status: OK PackageFile: flowAI_1.36.0.tar.gz PackageFileSize: 3.81 MiB