Package: flowAI Version: 1.36.0 Command: /Library/Frameworks/R.framework/Resources/bin/R CMD INSTALL flowAI StartedAt: 2025-01-30 16:37:30 -0500 (Thu, 30 Jan 2025) EndedAt: 2025-01-30 16:37:41 -0500 (Thu, 30 Jan 2025) EllapsedTime: 11.0 seconds RetCode: 0 Status: OK