Package: findIPs Version: 1.2.0 Command: F:\biocbuild\bbs-3.20-bioc\R\bin\R.exe CMD check --no-multiarch --install=check:findIPs.install-out.txt --library=F:\biocbuild\bbs-3.20-bioc\R\library --no-vignettes --timings findIPs_1.2.0.tar.gz StartedAt: 2025-01-31 02:02:35 -0500 (Fri, 31 Jan 2025) EndedAt: 2025-01-31 02:10:53 -0500 (Fri, 31 Jan 2025) EllapsedTime: 497.9 seconds RetCode: 0 Status: OK CheckDir: findIPs.Rcheck Warnings: 0