Package: fabia Version: 2.52.0 Command: /home/biocbuild/R/R/bin/R CMD check --install=check:fabia.install-out.txt --library=/home/biocbuild/R/R/site-library --no-vignettes --timings fabia_2.52.0.tar.gz StartedAt: 2025-01-31 06:12:00 -0000 (Fri, 31 Jan 2025) EndedAt: 2025-01-31 06:12:45 -0000 (Fri, 31 Jan 2025) EllapsedTime: 45.0 seconds RetCode: 0 Status: WARNINGS CheckDir: fabia.Rcheck Warnings: 2