Package: fabia Version: 2.52.0 Command: /home/biocbuild/R/R/bin/R CMD build --keep-empty-dirs --no-resave-data fabia StartedAt: 2025-01-30 23:33:32 -0000 (Thu, 30 Jan 2025) EndedAt: 2025-01-30 23:33:55 -0000 (Thu, 30 Jan 2025) EllapsedTime: 23.0 seconds RetCode: 0 Status: OK PackageFile: fabia_2.52.0.tar.gz PackageFileSize: 784 KiB