Package: fabia Version: 2.52.0 Command: F:\biocbuild\bbs-3.20-bioc\R\bin\R.exe CMD INSTALL fabia StartedAt: 2025-01-30 15:22:42 -0500 (Thu, 30 Jan 2025) EndedAt: 2025-01-30 15:23:47 -0500 (Thu, 30 Jan 2025) EllapsedTime: 65.1 seconds RetCode: 0 Status: OK