Package: fabia Version: 2.52.0 Command: /home/biocbuild/bbs-3.20-bioc/R/bin/R CMD build --keep-empty-dirs --no-resave-data --md5 fabia StartedAt: 2025-01-30 17:14:30 -0500 (Thu, 30 Jan 2025) EndedAt: 2025-01-30 17:14:48 -0500 (Thu, 30 Jan 2025) EllapsedTime: 18.0 seconds RetCode: 0 Status: OK PackageFile: fabia_2.52.0.tar.gz PackageFileSize: 802.1 KiB