Package: fCCAC Version: 1.32.0 Command: rm -rf fCCAC.buildbin-libdir && mkdir fCCAC.buildbin-libdir && F:\biocbuild\bbs-3.20-bioc\R\bin\R.exe CMD INSTALL --build --library=fCCAC.buildbin-libdir fCCAC_1.32.0.tar.gz StartedAt: 2025-01-31 08:39:03 -0500 (Fri, 31 Jan 2025) EndedAt: 2025-01-31 08:39:47 -0500 (Fri, 31 Jan 2025) EllapsedTime: 44.3 seconds RetCode: 0 Status: OK PackageFile: fCCAC_1.32.0.zip PackageFileSize: 3.529 MiB