Package: fCCAC Version: 1.32.0 Command: /home/biocbuild/bbs-3.20-bioc/R/bin/R CMD check --install=check:fCCAC.install-out.txt --library=/home/biocbuild/bbs-3.20-bioc/R/site-library --timings fCCAC_1.32.0.tar.gz StartedAt: 2025-01-30 22:10:41 -0500 (Thu, 30 Jan 2025) EndedAt: 2025-01-30 22:15:38 -0500 (Thu, 30 Jan 2025) EllapsedTime: 296.4 seconds RetCode: 0 Status: OK CheckDir: fCCAC.Rcheck Warnings: 0