Package: fCCAC Version: 1.32.0 Command: /Library/Frameworks/R.framework/Resources/bin/R CMD INSTALL fCCAC StartedAt: 2025-01-30 18:25:32 -0500 (Thu, 30 Jan 2025) EndedAt: 2025-01-30 18:26:18 -0500 (Thu, 30 Jan 2025) EllapsedTime: 45.4 seconds RetCode: 0 Status: OK