Package: evaluomeR Version: 1.22.0 Command: /home/biocbuild/bbs-3.20-bioc/R/bin/R CMD INSTALL evaluomeR StartedAt: 2025-01-30 15:52:24 -0500 (Thu, 30 Jan 2025) EndedAt: 2025-01-30 15:53:06 -0500 (Thu, 30 Jan 2025) EllapsedTime: 42.0 seconds RetCode: 0 Status: OK