Package: evaluomeR Version: 1.22.0 Command: /home/biocbuild/bbs-3.20-bioc/R/bin/R CMD build --keep-empty-dirs --no-resave-data --md5 evaluomeR StartedAt: 2025-01-30 17:13:47 -0500 (Thu, 30 Jan 2025) EndedAt: 2025-01-30 17:14:49 -0500 (Thu, 30 Jan 2025) EllapsedTime: 61.4 seconds RetCode: 0 Status: OK PackageFile: evaluomeR_1.22.0.tar.gz PackageFileSize: 1.113 MiB