Package: esATAC Version: 1.28.0 Command: /Library/Frameworks/R.framework/Resources/bin/R CMD INSTALL esATAC StartedAt: 2025-01-30 17:19:17 -0500 (Thu, 30 Jan 2025) EndedAt: 2025-01-30 17:20:56 -0500 (Thu, 30 Jan 2025) EllapsedTime: 99.7 seconds RetCode: 0 Status: OK