Package: erma Version: 1.22.0 Command: /home/biocbuild/R/R/bin/R CMD build --keep-empty-dirs --no-resave-data erma StartedAt: 2025-01-30 23:31:14 -0000 (Thu, 30 Jan 2025) EndedAt: 2025-01-31 00:11:14 -0000 (Fri, 31 Jan 2025) EllapsedTime: 2400.0 seconds RetCode: None Status: TIMEOUT PackageFile: None PackageFileSize: NA