Package: erccdashboard Version: 1.40.0 Command: /home/biocbuild/bbs-3.20-bioc/R/bin/R CMD check --install=check:erccdashboard.install-out.txt --library=/home/biocbuild/bbs-3.20-bioc/R/site-library --timings erccdashboard_1.40.0.tar.gz StartedAt: 2025-01-30 22:03:41 -0500 (Thu, 30 Jan 2025) EndedAt: 2025-01-30 22:05:13 -0500 (Thu, 30 Jan 2025) EllapsedTime: 92.2 seconds RetCode: 0 Status: OK CheckDir: erccdashboard.Rcheck Warnings: 0