Package: erccdashboard Version: 1.40.0 Command: /Library/Frameworks/R.framework/Resources/bin/R CMD INSTALL erccdashboard StartedAt: 2025-01-30 15:25:25 -0500 (Thu, 30 Jan 2025) EndedAt: 2025-01-30 15:25:44 -0500 (Thu, 30 Jan 2025) EllapsedTime: 19.5 seconds RetCode: 0 Status: OK