Package: erccdashboard Version: 1.40.0 Command: /Library/Frameworks/R.framework/Resources/bin/R CMD build --keep-empty-dirs --no-resave-data erccdashboard StartedAt: 2025-01-30 19:00:26 -0500 (Thu, 30 Jan 2025) EndedAt: 2025-01-30 19:02:11 -0500 (Thu, 30 Jan 2025) EllapsedTime: 105.4 seconds RetCode: 0 Status: OK PackageFile: erccdashboard_1.40.0.tar.gz PackageFileSize: 2.122 MiB