Package: epistasisGA Version: 1.8.0 Command: chmod a+r epistasisGA -R && F:\biocbuild\bbs-3.20-bioc\R\bin\R.exe CMD build --keep-empty-dirs --no-resave-data epistasisGA StartedAt: 2025-01-30 18:40:45 -0500 (Thu, 30 Jan 2025) EndedAt: 2025-01-30 18:47:19 -0500 (Thu, 30 Jan 2025) EllapsedTime: 393.3 seconds RetCode: 0 Status: OK PackageFile: epistasisGA_1.8.0.tar.gz PackageFileSize: 1.346 MiB