Package: epistasisGA Version: 1.8.0 Command: /Library/Frameworks/R.framework/Resources/bin/R CMD check --install=check:epistasisGA.install-out.txt --library=/Library/Frameworks/R.framework/Resources/library --no-vignettes --timings epistasisGA_1.8.0.tar.gz StartedAt: 2025-01-31 18:49:15 -0500 (Fri, 31 Jan 2025) EndedAt: 2025-01-31 18:52:11 -0500 (Fri, 31 Jan 2025) EllapsedTime: 175.2 seconds RetCode: 0 Status: WARNINGS CheckDir: epistasisGA.Rcheck Warnings: 1