Package: epimutacions Version: 1.10.0 Command: /home/biocbuild/bbs-3.20-bioc/R/bin/R CMD INSTALL epimutacions StartedAt: 2025-01-30 15:58:24 -0500 (Thu, 30 Jan 2025) EndedAt: 2025-01-30 15:59:11 -0500 (Thu, 30 Jan 2025) EllapsedTime: 46.6 seconds RetCode: 0 Status: OK