Package: epiNEM Version: 1.30.0 Command: /home/biocbuild/bbs-3.20-bioc/R/bin/R CMD check --install=check:epiNEM.install-out.txt --library=/home/biocbuild/bbs-3.20-bioc/R/site-library --timings epiNEM_1.30.0.tar.gz StartedAt: 2025-01-30 21:58:52 -0500 (Thu, 30 Jan 2025) EndedAt: 2025-01-30 22:02:11 -0500 (Thu, 30 Jan 2025) EllapsedTime: 199.2 seconds RetCode: 0 Status: OK CheckDir: epiNEM.Rcheck Warnings: 0