Package: easyreporting Version: 1.18.0 Command: /home/biocbuild/R/R/bin/R CMD INSTALL easyreporting StartedAt: 2025-01-30 20:39:43 -0000 (Thu, 30 Jan 2025) EndedAt: 2025-01-30 20:39:47 -0000 (Thu, 30 Jan 2025) EllapsedTime: 3.7 seconds RetCode: 0 Status: OK