Package: easyreporting Version: 1.18.0 Command: rm -rf easyreporting.buildbin-libdir && mkdir easyreporting.buildbin-libdir && /Users/biocbuild/BBS/utils/build-universal.sh easyreporting_1.18.0.tar.gz /Library/Frameworks/R.framework/Resources/bin/R easyreporting.buildbin-libdir StartedAt: 2025-01-31 12:44:04 -0500 (Fri, 31 Jan 2025) EndedAt: 2025-01-31 12:44:14 -0500 (Fri, 31 Jan 2025) EllapsedTime: 10.5 seconds RetCode: 0 Status: OK PackageFile: easyreporting_1.18.0.tgz PackageFileSize: 3.11 MiB