Package: easier Version: 1.12.0 Command: /Library/Frameworks/R.framework/Resources/bin/R CMD INSTALL easier StartedAt: 2025-01-30 18:18:17 -0500 (Thu, 30 Jan 2025) EndedAt: 2025-01-30 18:18:56 -0500 (Thu, 30 Jan 2025) EllapsedTime: 38.2 seconds RetCode: 0 Status: OK