Package: dyebias Version: 1.66.0 Command: /home/biocbuild/R/R/bin/R CMD check --install=check:dyebias.install-out.txt --library=/home/biocbuild/R/R/site-library --no-vignettes --timings dyebias_1.66.0.tar.gz StartedAt: 2025-01-31 05:53:12 -0000 (Fri, 31 Jan 2025) EndedAt: 2025-01-31 05:54:00 -0000 (Fri, 31 Jan 2025) EllapsedTime: 48.1 seconds RetCode: 0 Status: OK CheckDir: dyebias.Rcheck Warnings: 0