Package: dyebias Version: 1.66.0 Command: /Library/Frameworks/R.framework/Resources/bin/R CMD INSTALL dyebias StartedAt: 2025-01-30 15:29:49 -0500 (Thu, 30 Jan 2025) EndedAt: 2025-01-30 15:29:54 -0500 (Thu, 30 Jan 2025) EllapsedTime: 5.0 seconds RetCode: 0 Status: OK