Package: dominoSignal Version: 1.0.0 Command: /home/biocbuild/R/R/bin/R CMD INSTALL dominoSignal StartedAt: 2025-01-30 21:05:01 -0000 (Thu, 30 Jan 2025) EndedAt: 2025-01-30 21:05:31 -0000 (Thu, 30 Jan 2025) EllapsedTime: 30.3 seconds RetCode: 0 Status: OK