Package: dks Version: 1.52.0 Command: /Library/Frameworks/R.framework/Resources/bin/R CMD INSTALL dks StartedAt: 2025-01-30 15:07:40 -0500 (Thu, 30 Jan 2025) EndedAt: 2025-01-30 15:07:48 -0500 (Thu, 30 Jan 2025) EllapsedTime: 7.6 seconds RetCode: 0 Status: OK