Package: dks Version: 1.52.0 Command: /Library/Frameworks/R.framework/Resources/bin/R CMD build --keep-empty-dirs --no-resave-data dks StartedAt: 2025-01-30 22:46:51 -0500 (Thu, 30 Jan 2025) EndedAt: 2025-01-30 22:47:04 -0500 (Thu, 30 Jan 2025) EllapsedTime: 12.7 seconds RetCode: 0 Status: OK PackageFile: dks_1.52.0.tar.gz PackageFileSize: 601 KiB