Package: divergence Version: 1.22.0 Command: /home/biocbuild/R/R/bin/R CMD build --keep-empty-dirs --no-resave-data divergence StartedAt: 2025-01-30 23:13:21 -0000 (Thu, 30 Jan 2025) EndedAt: 2025-01-30 23:14:28 -0000 (Thu, 30 Jan 2025) EllapsedTime: 67.0 seconds RetCode: 0 Status: OK PackageFile: divergence_1.22.0.tar.gz PackageFileSize: 2.072 MiB