Package: divergence Version: 1.22.0 Command: rm -rf divergence.buildbin-libdir && mkdir divergence.buildbin-libdir && F:\biocbuild\bbs-3.20-bioc\R\bin\R.exe CMD INSTALL --build --library=divergence.buildbin-libdir divergence_1.22.0.tar.gz StartedAt: 2025-01-31 08:33:27 -0500 (Fri, 31 Jan 2025) EndedAt: 2025-01-31 08:34:05 -0500 (Fri, 31 Jan 2025) EllapsedTime: 38.1 seconds RetCode: 0 Status: OK PackageFile: divergence_1.22.0.zip PackageFileSize: 1.954 MiB