Package: divergence Version: 1.22.0 Command: rm -rf divergence.buildbin-libdir && mkdir divergence.buildbin-libdir && /Users/biocbuild/BBS/utils/build-universal.sh divergence_1.22.0.tar.gz /Library/Frameworks/R.framework/Resources/bin/R divergence.buildbin-libdir StartedAt: 2025-02-01 14:42:12 -0500 (Sat, 01 Feb 2025) EndedAt: 2025-02-01 14:42:38 -0500 (Sat, 01 Feb 2025) EllapsedTime: 25.9 seconds RetCode: 0 Status: OK PackageFile: divergence_1.22.0.tgz PackageFileSize: 1.954 MiB