Package: dinoR Version: 1.2.0 Command: F:\biocbuild\bbs-3.20-bioc\R\bin\R.exe CMD INSTALL dinoR StartedAt: 2025-01-30 16:07:41 -0500 (Thu, 30 Jan 2025) EndedAt: 2025-01-30 16:08:14 -0500 (Thu, 30 Jan 2025) EllapsedTime: 33.2 seconds RetCode: 0 Status: OK