Package: diggit Version: 1.38.0 Command: /Library/Frameworks/R.framework/Resources/bin/R CMD INSTALL diggit StartedAt: 2025-01-30 16:14:55 -0500 (Thu, 30 Jan 2025) EndedAt: 2025-01-30 16:15:26 -0500 (Thu, 30 Jan 2025) EllapsedTime: 30.7 seconds RetCode: 0 Status: OK