Package: diggit Version: 1.38.0 Command: /Library/Frameworks/R.framework/Resources/bin/R CMD INSTALL diggit StartedAt: 2025-01-30 17:14:48 -0500 (Thu, 30 Jan 2025) EndedAt: 2025-01-30 17:15:02 -0500 (Thu, 30 Jan 2025) EllapsedTime: 14.0 seconds RetCode: 0 Status: OK