Package: diffHic Version: 1.38.0 Command: /Library/Frameworks/R.framework/Resources/bin/R CMD INSTALL diffHic StartedAt: 2025-01-30 15:39:17 -0500 (Thu, 30 Jan 2025) EndedAt: 2025-01-30 15:42:31 -0500 (Thu, 30 Jan 2025) EllapsedTime: 194.7 seconds RetCode: 0 Status: OK