Package: demuxmix Version: 1.8.0 Command: /home/biocbuild/R/R/bin/R CMD build --keep-empty-dirs --no-resave-data demuxmix StartedAt: 2025-01-30 23:06:17 -0000 (Thu, 30 Jan 2025) EndedAt: 2025-01-30 23:07:07 -0000 (Thu, 30 Jan 2025) EllapsedTime: 50.0 seconds RetCode: 0 Status: OK PackageFile: demuxmix_1.8.0.tar.gz PackageFileSize: 855 KiB